BEGIN:VCALENDAR
VERSION:2.0
PRODID:-//eventon.com NONSGML v1.0//EN
CALSCALE:GREGORIAN
METHOD:PUBLISH
BEGIN:VEVENT
UID:69e89f0258eec
DTSTAMP:20260422T101218Z
DTSTART:20260524T100000Z
DTEND:20260524T113000Z
LOCATION:Calvary United Methodist Church 575 W. Northfield Dr.
SUMMARY:Worship
DESCRIPTION:Join us on Sunday mornings at 10:00AM for our weekly worship.\n
 https://calvaryunited.org/events/worship/var/ri-99.l-L1
URL:https://calvaryunited.org/events/worship/var/ri-99.l-L1
END:VEVENT
END:VCALENDAR