BEGIN:VCALENDAR
VERSION:2.0
PRODID:-//eventon.com NONSGML v1.0//EN
CALSCALE:GREGORIAN
METHOD:PUBLISH
BEGIN:VEVENT
UID:69e89e93bcc73
DTSTAMP:20260422T101027Z
DTSTART:20260426T100000Z
DTEND:20260426T113000Z
LOCATION:Calvary United Methodist Church 575 W. Northfield Dr.
SUMMARY:Worship
DESCRIPTION:Join us on Sunday mornings at 10:00AM for our weekly worship.\n
 https://calvaryunited.org/events/worship/var/ri-95.l-L1
URL:https://calvaryunited.org/events/worship/var/ri-95.l-L1
END:VEVENT
END:VCALENDAR