BEGIN:VCALENDAR
VERSION:2.0
PRODID:-//eventon.com NONSGML v1.0//EN
CALSCALE:GREGORIAN
METHOD:PUBLISH
BEGIN:VEVENT
UID:69e89f7887038
DTSTAMP:20260422T101416Z
DTSTART:20260308T100000Z
DTEND:20260308T113000Z
LOCATION:Calvary United Methodist Church 575 W. Northfield Dr.
SUMMARY:Worship
DESCRIPTION:Join us on Sunday mornings at 10:00AM for our weekly worship.\n
 https://calvaryunited.org/events/worship/var/ri-88.l-L1
URL:https://calvaryunited.org/events/worship/var/ri-88.l-L1
END:VEVENT
END:VCALENDAR