BEGIN:VCALENDAR
VERSION:2.0
PRODID:-//eventon.com NONSGML v1.0//EN
CALSCALE:GREGORIAN
METHOD:PUBLISH
BEGIN:VEVENT
UID:69e9db64d639e
DTSTAMP:20260423T084212Z
DTSTART:20240630T100000Z
DTEND:20240630T113000Z
LOCATION:Calvary United Methodist Church 575 W. Northfield Dr.
SUMMARY:Worship
DESCRIPTION:Join us on Sunday mornings at 10:00AM for our weekly worship.\n
 https://calvaryunited.org/events/worship/
URL:https://calvaryunited.org/events/worship/
END:VEVENT
END:VCALENDAR