BEGIN:VCALENDAR
VERSION:2.0
PRODID:-//eventon.com NONSGML v1.0//EN
CALSCALE:GREGORIAN
METHOD:PUBLISH
BEGIN:VEVENT
UID:69e9d5f8eff91
DTSTAMP:20260423T081904Z
DTSTART:20260302T063000Z
DTEND:20260302T073000Z
LOCATION:
SUMMARY:First Monday of the Month Prayer Time
DESCRIPTION:All are invited to join us in the Sanctuary for prayer. Bring y
 our coffee or tea!\nhttps://calvaryunited.org/events/first-monday-of-the-mo
 nth-prayer-time/var/ri-1.l-L1
URL:https://calvaryunited.org/events/first-monday-of-the-month-prayer-time/var/ri-1.l-L1
END:VEVENT
END:VCALENDAR